BEGIN:VCALENDAR
PRODID:-//AT Content Types//AT Event//EN
VERSION:1.0
BEGIN:VEVENT
DTSTART:20170502T050000Z
DTEND:20170505T180000Z
DCREATED:20161215T125657Z
UID:ATEvent-d74d0122e1a54f7fae9d75dfa8651de9
SEQUENCE:0
LAST-MODIFIED:20191004T150733Z
SUMMARY:Concours CCP
PRIORITY:3
TRANSP:0
END:VEVENT
END:VCALENDAR
