BEGIN:VCALENDAR
PRODID:-//AT Content Types//AT Event//EN
VERSION:1.0
BEGIN:VEVENT
DTSTART:20190528T183000Z
DTEND:20190528T183000Z
DCREATED:20181223T112136Z
UID:ATEvent-b5f3c62bb34549f180676c2ebe75f244
SEQUENCE:0
LAST-MODIFIED:20191004T150727Z
SUMMARY:Conférence d'Antoine Paumard\, directeur du JRS (service jésuite des réfugiés)
PRIORITY:3
TRANSP:0
END:VEVENT
END:VCALENDAR
