BEGIN:VCALENDAR
PRODID:-//AT Content Types//AT Event//EN
VERSION:2.0
METHOD:PUBLISH
BEGIN:VEVENT
DTSTAMP:20260420T075442Z
CREATED:20151026T091148Z
UID:ATEvent-73aa8a54d2524655b3b85b461bb1ed0f
LAST-MODIFIED:20191004T150736Z
SUMMARY:Visite de présentation de Mines ParisTech
DTSTART:20160309T193000Z
DTEND:20160309T203000Z
URL:http://www.mines-paristech.fr/
CLASS:PUBLIC
END:VEVENT
END:VCALENDAR
